BEGIN:VCALENDAR
VERSION:2.0
PRODID:-//CDU-Stadtratsfraktion Halle (Saale) - ECPv6.15.20//NONSGML v1.0//EN
CALSCALE:GREGORIAN
METHOD:PUBLISH
X-WR-CALNAME:CDU-Stadtratsfraktion Halle (Saale)
X-ORIGINAL-URL:https://cdu-halle-fraktion.de
X-WR-CALDESC:Veranstaltungen für CDU-Stadtratsfraktion Halle (Saale)
REFRESH-INTERVAL;VALUE=DURATION:PT1H
X-Robots-Tag:noindex
X-PUBLISHED-TTL:PT1H
BEGIN:VTIMEZONE
TZID:Europe/Berlin
BEGIN:DAYLIGHT
TZOFFSETFROM:+0100
TZOFFSETTO:+0200
TZNAME:CEST
DTSTART:20240331T010000
END:DAYLIGHT
BEGIN:STANDARD
TZOFFSETFROM:+0200
TZOFFSETTO:+0100
TZNAME:CET
DTSTART:20241027T010000
END:STANDARD
BEGIN:DAYLIGHT
TZOFFSETFROM:+0100
TZOFFSETTO:+0200
TZNAME:CEST
DTSTART:20250330T010000
END:DAYLIGHT
BEGIN:STANDARD
TZOFFSETFROM:+0200
TZOFFSETTO:+0100
TZNAME:CET
DTSTART:20251026T010000
END:STANDARD
BEGIN:DAYLIGHT
TZOFFSETFROM:+0100
TZOFFSETTO:+0200
TZNAME:CEST
DTSTART:20260329T010000
END:DAYLIGHT
BEGIN:STANDARD
TZOFFSETFROM:+0200
TZOFFSETTO:+0100
TZNAME:CET
DTSTART:20261025T010000
END:STANDARD
END:VTIMEZONE
BEGIN:VEVENT
DTSTART;TZID=Europe/Berlin:20250908T170000
DTEND;TZID=Europe/Berlin:20250908T190000
DTSTAMP:20260423T104820
CREATED:20250903T111128Z
LAST-MODIFIED:20250903T112236Z
UID:2173-1757350800-1757358000@cdu-halle-fraktion.de
SUMMARY:Fraktionssitzung am Montag\, 08. September 2025
DESCRIPTION:In der dritten Fraktionssitzung nach der Sommerpause bespricht die Fraktion die Ergebnisse der Stadtratssitzung vom vergangenen Mittwoch und bereitet weitere Themen und Anträge sowie die anstehenden Sitzungen der Ausschüsse vor. Diese finden Sie hier. \nWenn Sie Anregungen an die Stadträte und für die Arbeit der Fraktion haben\, schreiben Sie uns jederzeit gerne.
URL:https://cdu-halle-fraktion.de/veranstaltung/fraktionssitzung-am-montag-08-september-2025/
CATEGORIES:Fraktionssitzung
END:VEVENT
END:VCALENDAR